BEGIN:VCALENDAR
VERSION:2.0
PRODID:-//Hundeschule &quot;TAVA&quot; - ECPv6.15.18//NONSGML v1.0//EN
CALSCALE:GREGORIAN
METHOD:PUBLISH
X-ORIGINAL-URL:https://hundeschuletava.de
X-WR-CALDESC:Veranstaltungen für Hundeschule &quot;TAVA&quot;
REFRESH-INTERVAL;VALUE=DURATION:PT1H
X-Robots-Tag:noindex
X-PUBLISHED-TTL:PT1H
BEGIN:VTIMEZONE
TZID:Europe/Berlin
BEGIN:DAYLIGHT
TZOFFSETFROM:+0100
TZOFFSETTO:+0200
TZNAME:CEST
DTSTART:20250330T010000
END:DAYLIGHT
BEGIN:STANDARD
TZOFFSETFROM:+0200
TZOFFSETTO:+0100
TZNAME:CET
DTSTART:20251026T010000
END:STANDARD
BEGIN:DAYLIGHT
TZOFFSETFROM:+0100
TZOFFSETTO:+0200
TZNAME:CEST
DTSTART:20260329T010000
END:DAYLIGHT
BEGIN:STANDARD
TZOFFSETFROM:+0200
TZOFFSETTO:+0100
TZNAME:CET
DTSTART:20261025T010000
END:STANDARD
BEGIN:DAYLIGHT
TZOFFSETFROM:+0100
TZOFFSETTO:+0200
TZNAME:CEST
DTSTART:20270328T010000
END:DAYLIGHT
BEGIN:STANDARD
TZOFFSETFROM:+0200
TZOFFSETTO:+0100
TZNAME:CET
DTSTART:20271031T010000
END:STANDARD
END:VTIMEZONE
BEGIN:VEVENT
DTSTART;TZID=Europe/Berlin:20260204T161500
DTEND;TZID=Europe/Berlin:20260204T174500
DTSTAMP:20260420T045650
CREATED:20251029T114240Z
LAST-MODIFIED:20260115T125807Z
UID:10002757-1770221700-1770227100@hundeschuletava.de
SUMMARY:M55 Personensuche 3
DESCRIPTION:Clubmitglieder erhalten 15% Rabatt!
URL:https://hundeschuletava.de/event/m55-personensuche-3-2-2-2-2-2-2/
LOCATION:Hundeschule „TAVA“\, Hochstätterpfad\, Feilbingert\, 67824\, Deutschland
CATEGORIES:M55 Personensuche 3
ATTACH;FMTTYPE=image/png:https://hundeschuletava.de/wp-content/uploads/2022/08/M55-Modul.png
ORGANIZER;CN="Hundeschule 'TAVA'":MAILTO:post@hundeschuletava.de
END:VEVENT
END:VCALENDAR