BEGIN:VCALENDAR
VERSION:2.0
PRODID:-//Hundeschule &quot;TAVA&quot; - ECPv6.15.18//NONSGML v1.0//EN
CALSCALE:GREGORIAN
METHOD:PUBLISH
X-ORIGINAL-URL:https://hundeschuletava.de
X-WR-CALDESC:Veranstaltungen für Hundeschule &quot;TAVA&quot;
REFRESH-INTERVAL;VALUE=DURATION:PT1H
X-Robots-Tag:noindex
X-PUBLISHED-TTL:PT1H
BEGIN:VTIMEZONE
TZID:Europe/Berlin
BEGIN:DAYLIGHT
TZOFFSETFROM:+0100
TZOFFSETTO:+0200
TZNAME:CEST
DTSTART:20250330T010000
END:DAYLIGHT
BEGIN:STANDARD
TZOFFSETFROM:+0200
TZOFFSETTO:+0100
TZNAME:CET
DTSTART:20251026T010000
END:STANDARD
BEGIN:DAYLIGHT
TZOFFSETFROM:+0100
TZOFFSETTO:+0200
TZNAME:CEST
DTSTART:20260329T010000
END:DAYLIGHT
BEGIN:STANDARD
TZOFFSETFROM:+0200
TZOFFSETTO:+0100
TZNAME:CET
DTSTART:20261025T010000
END:STANDARD
BEGIN:DAYLIGHT
TZOFFSETFROM:+0100
TZOFFSETTO:+0200
TZNAME:CEST
DTSTART:20270328T010000
END:DAYLIGHT
BEGIN:STANDARD
TZOFFSETFROM:+0200
TZOFFSETTO:+0100
TZNAME:CET
DTSTART:20271031T010000
END:STANDARD
END:VTIMEZONE
BEGIN:VEVENT
DTSTART;TZID=Europe/Berlin:20260320T180000
DTEND;TZID=Europe/Berlin:20260320T190000
DTSTAMP:20260419T223803
CREATED:20220208T133300Z
LAST-MODIFIED:20251208T130629Z
UID:10002728-1774029600-1774033200@hundeschuletava.de
SUMMARY:M7 Rückruf (2)
DESCRIPTION:Clubmitglieder erhalten 15% Rabatt!
URL:https://hundeschuletava.de/event/m11-rueckruf-3-3-2-2-2-2-2-2-2-2-2-2-2-2-2-2-2-2-2-3-2-2-2-2-2-2-2-2-2-2-2-2-2-2-2-3-2-2-2-2-2-2-3-2-2-2-2-2-3-2-2-2-2-2-2/
LOCATION:Hundeschule „TAVA“\, Hochstätterpfad\, Feilbingert\, 67824\, Deutschland
CATEGORIES:M7 Rückruf 2
ATTACH;FMTTYPE=image/jpeg:https://hundeschuletava.de/wp-content/uploads/2021/05/M7.jpg
ORGANIZER;CN="Hundeschule 'TAVA'":MAILTO:post@hundeschuletava.de
END:VEVENT
BEGIN:VEVENT
DTSTART;TZID=Europe/Berlin:20260320T191500
DTEND;TZID=Europe/Berlin:20260320T201500
DTSTAMP:20260419T223803
CREATED:20220208T123931Z
LAST-MODIFIED:20251205T205554Z
UID:10002701-1774034100-1774037700@hundeschuletava.de
SUMMARY:M16 Team Training
DESCRIPTION:  \nClubmitglieder erhalten 15% Rabatt!
URL:https://hundeschuletava.de/event/m16-team-training-2-8-2-2-2-2-2-2-2-2-2-2-2-2-2-2-2-2-2-2-2-2-2-2-2-2-2-2-2-2-2-2-2-2-2-2-2-2-2-3-2-2-2-2-2-2-2-2-2-2-2-2-2-2-2-2-2-2-2-2-2-2-2-2-2-2-2-2-2-2-2-2-2-2-2-2-2-2-2-2-2-2-2-2-2-2-2-2-2-2-23/
LOCATION:Hundeschule „TAVA“\, Hochstätterpfad\, Feilbingert\, 67824\, Deutschland
CATEGORIES:M16 Team Training
ATTACH;FMTTYPE=image/png:https://hundeschuletava.de/wp-content/uploads/2023/05/M16-Schild-klein-neu-e1685033285518.png
ORGANIZER;CN="Hundeschule 'TAVA'":MAILTO:post@hundeschuletava.de
END:VEVENT
END:VCALENDAR