BEGIN:VCALENDAR
VERSION:2.0
PRODID:-//Hundeschule &quot;TAVA&quot; - ECPv6.15.18//NONSGML v1.0//EN
CALSCALE:GREGORIAN
METHOD:PUBLISH
X-WR-CALNAME:Hundeschule &quot;TAVA&quot;
X-ORIGINAL-URL:https://hundeschuletava.de
X-WR-CALDESC:Veranstaltungen für Hundeschule &quot;TAVA&quot;
REFRESH-INTERVAL;VALUE=DURATION:PT1H
X-Robots-Tag:noindex
X-PUBLISHED-TTL:PT1H
BEGIN:VTIMEZONE
TZID:Europe/Berlin
BEGIN:DAYLIGHT
TZOFFSETFROM:+0100
TZOFFSETTO:+0200
TZNAME:CEST
DTSTART:20250330T010000
END:DAYLIGHT
BEGIN:STANDARD
TZOFFSETFROM:+0200
TZOFFSETTO:+0100
TZNAME:CET
DTSTART:20251026T010000
END:STANDARD
BEGIN:DAYLIGHT
TZOFFSETFROM:+0100
TZOFFSETTO:+0200
TZNAME:CEST
DTSTART:20260329T010000
END:DAYLIGHT
BEGIN:STANDARD
TZOFFSETFROM:+0200
TZOFFSETTO:+0100
TZNAME:CET
DTSTART:20261025T010000
END:STANDARD
BEGIN:DAYLIGHT
TZOFFSETFROM:+0100
TZOFFSETTO:+0200
TZNAME:CEST
DTSTART:20270328T010000
END:DAYLIGHT
BEGIN:STANDARD
TZOFFSETFROM:+0200
TZOFFSETTO:+0100
TZNAME:CET
DTSTART:20271031T010000
END:STANDARD
END:VTIMEZONE
BEGIN:VEVENT
DTSTART;TZID=Europe/Berlin:20260414T161500
DTEND;TZID=Europe/Berlin:20260414T173000
DTSTAMP:20260420T032742
CREATED:20260318T134824Z
LAST-MODIFIED:20260318T135640Z
UID:10002872-1776183300-1776187800@hundeschuletava.de
SUMMARY:M54 Personensuche 2
DESCRIPTION:Clubmitglieder erhalten 15% Rabatt!
URL:https://hundeschuletava.de/event/m54-personensuche-2-2/
LOCATION:Hundeschule „TAVA“\, Hochstätterpfad\, Feilbingert\, 67824\, Deutschland
CATEGORIES:M54 Personensuche 2
ATTACH;FMTTYPE=image/png:https://hundeschuletava.de/wp-content/uploads/2022/08/M54-Modul.png
ORGANIZER;CN="Hundeschule 'TAVA'":MAILTO:post@hundeschuletava.de
END:VEVENT
BEGIN:VEVENT
DTSTART;TZID=Europe/Berlin:20260414T180000
DTEND;TZID=Europe/Berlin:20260414T190000
DTSTAMP:20260420T032742
CREATED:20220208T132940Z
LAST-MODIFIED:20260302T140812Z
UID:10002818-1776189600-1776193200@hundeschuletava.de
SUMMARY:M9 Leinenführung (2)
DESCRIPTION:Clubmitglieder erhalten 15% Rabatt!
URL:https://hundeschuletava.de/event/m9-leinenfuehrung-2-3-2-2-2-2-2-2-2-2-2-2-2-2-2-2-2-2-2-2-2-2-2-2-2-2-2-2-2-2-2-2-2-2-2-2-2-2-2-2-2-2-2-2-2-2-2-2-2-2-2-2-2-3-2-2-2-2-2-2-2/
LOCATION:Hundeschule „TAVA“\, Hochstätterpfad\, Feilbingert\, 67824\, Deutschland
CATEGORIES:M9 Leinenführung 2
ATTACH;FMTTYPE=image/png:https://hundeschuletava.de/wp-content/uploads/2023/05/M9-Schild-klein-neu-e1685033152423.png
ORGANIZER;CN="Hundeschule 'TAVA'":MAILTO:post@hundeschuletava.de
END:VEVENT
BEGIN:VEVENT
DTSTART;TZID=Europe/Berlin:20260414T193000
DTEND;TZID=Europe/Berlin:20260414T203000
DTSTAMP:20260420T032742
CREATED:20260311T143450Z
LAST-MODIFIED:20260311T144753Z
UID:10002862-1776195000-1776198600@hundeschuletava.de
SUMMARY:M17 Social Walk
DESCRIPTION:Treffpunkt: Parkplatz hinter dem Augenzentrum Bad Kreuznach\, George-Marshall-Straße 8 \nhttps://maps.app.goo.gl/ssCpMyQMKSwGgoj56 \nClubmitglieder erhalten 15% Rabatt!
URL:https://hundeschuletava.de/event/m17-social-walk/
LOCATION:Hundeschule „TAVA“\, Hochstätterpfad\, Feilbingert\, 67824\, Deutschland
CATEGORIES:M17 Social Walk
ATTACH;FMTTYPE=image/png:https://hundeschuletava.de/wp-content/uploads/2025/01/M17-Schild-klein-neu-e1736518122342.png
ORGANIZER;CN="Hundeschule 'TAVA'":MAILTO:post@hundeschuletava.de
END:VEVENT
END:VCALENDAR