BEGIN:VCALENDAR
VERSION:2.0
PRODID:-//Hundeschule &quot;TAVA&quot; - ECPv6.15.18//NONSGML v1.0//EN
CALSCALE:GREGORIAN
METHOD:PUBLISH
X-WR-CALNAME:Hundeschule &quot;TAVA&quot;
X-ORIGINAL-URL:https://hundeschuletava.de
X-WR-CALDESC:Veranstaltungen für Hundeschule &quot;TAVA&quot;
REFRESH-INTERVAL;VALUE=DURATION:PT1H
X-Robots-Tag:noindex
X-PUBLISHED-TTL:PT1H
BEGIN:VTIMEZONE
TZID:Europe/Berlin
BEGIN:DAYLIGHT
TZOFFSETFROM:+0100
TZOFFSETTO:+0200
TZNAME:CEST
DTSTART:20250330T010000
END:DAYLIGHT
BEGIN:STANDARD
TZOFFSETFROM:+0200
TZOFFSETTO:+0100
TZNAME:CET
DTSTART:20251026T010000
END:STANDARD
BEGIN:DAYLIGHT
TZOFFSETFROM:+0100
TZOFFSETTO:+0200
TZNAME:CEST
DTSTART:20260329T010000
END:DAYLIGHT
BEGIN:STANDARD
TZOFFSETFROM:+0200
TZOFFSETTO:+0100
TZNAME:CET
DTSTART:20261025T010000
END:STANDARD
BEGIN:DAYLIGHT
TZOFFSETFROM:+0100
TZOFFSETTO:+0200
TZNAME:CEST
DTSTART:20270328T010000
END:DAYLIGHT
BEGIN:STANDARD
TZOFFSETFROM:+0200
TZOFFSETTO:+0100
TZNAME:CET
DTSTART:20271031T010000
END:STANDARD
END:VTIMEZONE
BEGIN:VEVENT
DTSTART;TZID=Europe/Berlin:20260422T180000
DTEND;TZID=Europe/Berlin:20260422T190000
DTSTAMP:20260420T031905
CREATED:20240523T205204Z
LAST-MODIFIED:20260326T125122Z
UID:10002787-1776880800-1776884400@hundeschuletava.de
SUMMARY:M56 Personensuche (4)
DESCRIPTION:Clubmitglieder erhalten 15% Rabatt!
URL:https://hundeschuletava.de/event/m56-personensuche-4-2-2-2-2-2-2-2-2-2-2-2-2-2-2-2-2-2-3-2-2-2-2-2-2-2-2-2-2-2-2-2-2-2-2-2-2-2-2-2-2-2-2-2-2-2-2-2-2-2-2-2-2-3-2-2-2-2-2-2-2-2-2-2-2-2-2-2-2-2-2-2-2/
LOCATION:Hundeschule „TAVA“\, Hochstätterpfad\, Feilbingert\, 67824\, Deutschland
CATEGORIES:M56 Personensuche 4
ATTACH;FMTTYPE=image/png:https://hundeschuletava.de/wp-content/uploads/2023/03/M56-von-Andrea-geaendert-Schild-klein-e1678969829252.png
ORGANIZER;CN="Hundeschule 'TAVA'":MAILTO:post@hundeschuletava.de
END:VEVENT
BEGIN:VEVENT
DTSTART;TZID=Europe/Berlin:20260422T191500
DTEND;TZID=Europe/Berlin:20260422T201500
DTSTAMP:20260420T031905
CREATED:20240523T205204Z
LAST-MODIFIED:20260302T123407Z
UID:10002777-1776885300-1776888900@hundeschuletava.de
SUMMARY:M56 Personensuche (4)
DESCRIPTION:Clubmitglieder erhalten 15% Rabatt! \n 
URL:https://hundeschuletava.de/event/m56-personensuche-4-2-2-2-2-2-2-2-2-2-2-2-2-2-2-2-2-2-2-2-2-2-2-2-2-2-2-2-2-2-2-2-2-2-2-2-2-2-2-2-2-2-2-2-2-4-2-2-2-2-2-2-2-2-2-2-2-2-2-2-2-2-2-3-2__trashed-2-2-2-2-3-2-2-2-2-2-2-2-2-2-3/
LOCATION:Hundeschule „TAVA“\, Hochstätterpfad\, Feilbingert\, 67824\, Deutschland
CATEGORIES:M56 Personensuche 4
ATTACH;FMTTYPE=image/png:https://hundeschuletava.de/wp-content/uploads/2023/03/M56-von-Andrea-geaendert-Schild-klein-e1678969829252.png
ORGANIZER;CN="Hundeschule 'TAVA'":MAILTO:post@hundeschuletava.de
END:VEVENT
END:VCALENDAR