BEGIN:VCALENDAR
VERSION:2.0
PRODID:-//Hundeschule &quot;TAVA&quot; - ECPv6.15.18//NONSGML v1.0//EN
CALSCALE:GREGORIAN
METHOD:PUBLISH
X-WR-CALNAME:Hundeschule &quot;TAVA&quot;
X-ORIGINAL-URL:https://hundeschuletava.de
X-WR-CALDESC:Veranstaltungen für Hundeschule &quot;TAVA&quot;
REFRESH-INTERVAL;VALUE=DURATION:PT1H
X-Robots-Tag:noindex
X-PUBLISHED-TTL:PT1H
BEGIN:VTIMEZONE
TZID:Europe/Berlin
BEGIN:DAYLIGHT
TZOFFSETFROM:+0100
TZOFFSETTO:+0200
TZNAME:CEST
DTSTART:20250330T010000
END:DAYLIGHT
BEGIN:STANDARD
TZOFFSETFROM:+0200
TZOFFSETTO:+0100
TZNAME:CET
DTSTART:20251026T010000
END:STANDARD
BEGIN:DAYLIGHT
TZOFFSETFROM:+0100
TZOFFSETTO:+0200
TZNAME:CEST
DTSTART:20260329T010000
END:DAYLIGHT
BEGIN:STANDARD
TZOFFSETFROM:+0200
TZOFFSETTO:+0100
TZNAME:CET
DTSTART:20261025T010000
END:STANDARD
BEGIN:DAYLIGHT
TZOFFSETFROM:+0100
TZOFFSETTO:+0200
TZNAME:CEST
DTSTART:20270328T010000
END:DAYLIGHT
BEGIN:STANDARD
TZOFFSETFROM:+0200
TZOFFSETTO:+0100
TZNAME:CET
DTSTART:20271031T010000
END:STANDARD
END:VTIMEZONE
BEGIN:VEVENT
DTSTART;TZID=Europe/Berlin:20260126T180000
DTEND;TZID=Europe/Berlin:20260126T190000
DTSTAMP:20260420T000911
CREATED:20250305T134526Z
LAST-MODIFIED:20260106T132440Z
UID:10002736-1769450400-1769454000@hundeschuletava.de
SUMMARY:M40 Hoopers (1)
DESCRIPTION:Clubmitglieder erhalten 15% Rabatt!
URL:https://hundeschuletava.de/event/m40-hoopers-1-2-2-2-2-2-2-2-2-2-2-2-2-2-2-2-2-2/
LOCATION:Hundeschule „TAVA“\, Hochstätterpfad\, Feilbingert\, 67824\, Deutschland
CATEGORIES:M40 Hoopers 1
ATTACH;FMTTYPE=image/png:https://hundeschuletava.de/wp-content/uploads/2025/03/M40-Schild-klein-neu-e1741182127974.png
ORGANIZER;CN="Hundeschule 'TAVA'":MAILTO:post@hundeschuletava.de
END:VEVENT
BEGIN:VEVENT
DTSTART;TZID=Europe/Berlin:20260127T180000
DTEND;TZID=Europe/Berlin:20260127T190000
DTSTAMP:20260420T000911
CREATED:20220208T133300Z
LAST-MODIFIED:20251208T130332Z
UID:10002726-1769536800-1769540400@hundeschuletava.de
SUMMARY:M7 Rückruf (2)
DESCRIPTION:Clubmitglieder erhalten 15% Rabatt!
URL:https://hundeschuletava.de/event/m11-rueckruf-3-3-2-2-2-2-2-2-2-2-2-2-2-2-2-2-2-2-2-3-2-2-2-2-2-2-2-2-2-2-2-2-2-2-2-3-2-2-2-2-2-2-3-2-2-2-2-2-3-2-2-2-2/
LOCATION:Hundeschule „TAVA“\, Hochstätterpfad\, Feilbingert\, 67824\, Deutschland
CATEGORIES:M7 Rückruf 2
ATTACH;FMTTYPE=image/jpeg:https://hundeschuletava.de/wp-content/uploads/2021/05/M7.jpg
ORGANIZER;CN="Hundeschule 'TAVA'":MAILTO:post@hundeschuletava.de
END:VEVENT
BEGIN:VEVENT
DTSTART;TZID=Europe/Berlin:20260127T191500
DTEND;TZID=Europe/Berlin:20260127T201500
DTSTAMP:20260420T000911
CREATED:20220208T123931Z
LAST-MODIFIED:20251205T205114Z
UID:10002694-1769541300-1769544900@hundeschuletava.de
SUMMARY:M16 Team Training
DESCRIPTION:  \nClubmitglieder erhalten 15% Rabatt!
URL:https://hundeschuletava.de/event/m16-team-training-2-8-2-2-2-2-2-2-2-2-2-2-2-2-2-2-2-2-2-2-2-2-2-2-2-2-2-2-2-2-2-2-2-2-2-2-2-2-2-3-2-2-2-2-2-2-2-2-2-2-2-2-2-2-2-2-2-2-2-2-2-2-2-2-2-2-2-2-2-2-2-2-2-2-2-2-2-2-2-2-2-2-2-2-2-2-2-2-2-2-5/
LOCATION:Hundeschule „TAVA“\, Hochstätterpfad\, Feilbingert\, 67824\, Deutschland
CATEGORIES:M16 Team Training
ATTACH;FMTTYPE=image/png:https://hundeschuletava.de/wp-content/uploads/2023/05/M16-Schild-klein-neu-e1685033285518.png
ORGANIZER;CN="Hundeschule 'TAVA'":MAILTO:post@hundeschuletava.de
END:VEVENT
BEGIN:VEVENT
DTSTART;TZID=Europe/Berlin:20260128T161500
DTEND;TZID=Europe/Berlin:20260128T174500
DTSTAMP:20260420T000911
CREATED:20251029T114240Z
LAST-MODIFIED:20260115T125653Z
UID:10002756-1769616900-1769622300@hundeschuletava.de
SUMMARY:M55 Personensuche 3
DESCRIPTION:Clubmitglieder erhalten 15% Rabatt!
URL:https://hundeschuletava.de/event/m55-personensuche-3-2-2-2-2-2/
LOCATION:Hundeschule „TAVA“\, Hochstätterpfad\, Feilbingert\, 67824\, Deutschland
CATEGORIES:M55 Personensuche 3
ATTACH;FMTTYPE=image/png:https://hundeschuletava.de/wp-content/uploads/2022/08/M55-Modul.png
ORGANIZER;CN="Hundeschule 'TAVA'":MAILTO:post@hundeschuletava.de
END:VEVENT
BEGIN:VEVENT
DTSTART;TZID=Europe/Berlin:20260128T180000
DTEND;TZID=Europe/Berlin:20260128T190000
DTSTAMP:20260420T000911
CREATED:20240523T205204Z
LAST-MODIFIED:20251205T202602Z
UID:10002678-1769623200-1769626800@hundeschuletava.de
SUMMARY:M56 Personensuche (4)
DESCRIPTION:Clubmitglieder erhalten 15% Rabatt!
URL:https://hundeschuletava.de/event/m56-personensuche-4-2-2-2-2-2-2-2-2-2-2-2-2-2-2-2-2-2-3-2-2-2-2-2-2-2-2-2-2-2-2-2-2-2-2-2-2-2-2-2-2-2-2-2-2-2-2-2-2-2-2-2-2-3-2-2-2-2-2-2-2-2-2-2/
LOCATION:Hundeschule „TAVA“\, Hochstätterpfad\, Feilbingert\, 67824\, Deutschland
CATEGORIES:M56 Personensuche 4
ATTACH;FMTTYPE=image/png:https://hundeschuletava.de/wp-content/uploads/2023/03/M56-von-Andrea-geaendert-Schild-klein-e1678969829252.png
ORGANIZER;CN="Hundeschule 'TAVA'":MAILTO:post@hundeschuletava.de
END:VEVENT
BEGIN:VEVENT
DTSTART;TZID=Europe/Berlin:20260128T191500
DTEND;TZID=Europe/Berlin:20260128T201500
DTSTAMP:20260420T000911
CREATED:20240523T205204Z
LAST-MODIFIED:20251205T202648Z
UID:10002679-1769627700-1769631300@hundeschuletava.de
SUMMARY:M56 Personensuche (4)
DESCRIPTION:Clubmitglieder erhalten 15% Rabatt! \n 
URL:https://hundeschuletava.de/event/m56-personensuche-4-2-2-2-2-2-2-2-2-2-2-2-2-2-2-2-2-2-2-2-2-2-2-2-2-2-2-2-2-2-2-2-2-2-2-2-2-2-2-2-2-2-2-2-2-4-2-2-2-2-2-2-2-2-2-2-2-2-2-2-2-2-2-3-2__trashed-2-2-2-2-3-2-2/
LOCATION:Hundeschule „TAVA“\, Hochstätterpfad\, Feilbingert\, 67824\, Deutschland
CATEGORIES:M56 Personensuche 4
ATTACH;FMTTYPE=image/png:https://hundeschuletava.de/wp-content/uploads/2023/03/M56-von-Andrea-geaendert-Schild-klein-e1678969829252.png
ORGANIZER;CN="Hundeschule 'TAVA'":MAILTO:post@hundeschuletava.de
END:VEVENT
BEGIN:VEVENT
DTSTART;TZID=Europe/Berlin:20260129T180000
DTEND;TZID=Europe/Berlin:20260129T190000
DTSTAMP:20260420T000911
CREATED:20251208T134828Z
LAST-MODIFIED:20251208T173639Z
UID:10002741-1769709600-1769713200@hundeschuletava.de
SUMMARY:M17 Social Walk
DESCRIPTION:Treffpunkt: Bad Kreuznach am Parkplatz Brauwerk \nhttps://maps.app.goo.gl/gFcTiLjnTMKqPZAJA \nClubmitglieder erhalten 15% Rabatt!
URL:https://hundeschuletava.de/event/m17-social-walk-4/
LOCATION:Hundeschule „TAVA“\, Hochstätterpfad\, Feilbingert\, 67824\, Deutschland
CATEGORIES:M17 Social Walk
ATTACH;FMTTYPE=image/png:https://hundeschuletava.de/wp-content/uploads/2025/01/M17-Schild-klein-neu-e1736518122342.png
ORGANIZER;CN="Hundeschule 'TAVA'":MAILTO:post@hundeschuletava.de
END:VEVENT
BEGIN:VEVENT
DTSTART;TZID=Europe/Berlin:20260130T180000
DTEND;TZID=Europe/Berlin:20260130T190000
DTSTAMP:20260420T000911
CREATED:20220208T133132Z
LAST-MODIFIED:20260115T124824Z
UID:10002755-1769796000-1769799600@hundeschuletava.de
SUMMARY:M2 RS + Aufhebung "Richtig spielen und Aufhebung"
DESCRIPTION:Clubmitglieder erhalten 15% Rabatt!
URL:https://hundeschuletava.de/event/m2-spielenaufheb-4-2-2-2-2-2-2-2-2-2-2-2-2-2-2-2-2-2-2-2-2-3-2-2-2-2-2-2-2-2-2-2-2-2-2-2-2-2-2-2-2-2-2-2-2-4-4-2-2-2-2-2-2-2-2-2-3/
LOCATION:Hundeschule „TAVA“\, Hochstätterpfad\, Feilbingert\, 67824\, Deutschland
CATEGORIES:M2 RS + Aufhebung "Richtig spielen und Aufhebung"
ATTACH;FMTTYPE=image/jpeg:https://hundeschuletava.de/wp-content/uploads/2021/05/M2.jpg
ORGANIZER;CN="Hundeschule 'TAVA'":MAILTO:post@hundeschuletava.de
END:VEVENT
BEGIN:VEVENT
DTSTART;TZID=Europe/Berlin:20260130T191500
DTEND;TZID=Europe/Berlin:20260130T201500
DTSTAMP:20260420T000911
CREATED:20230202T164041Z
LAST-MODIFIED:20251205T201305Z
UID:10002667-1769800500-1769804100@hundeschuletava.de
SUMMARY:M15 GruppenTraining
DESCRIPTION:Clubmitglieder erhalten 15% Rabatt!
URL:https://hundeschuletava.de/event/m15-gruppentraining-2-2-2-2-2-2-2-2-2-2-2-3-2-2-2-2-2-2-3-2-2-2-2-2-2-2-2-3-2-2-2-2-2-2-2-2-2-2-2-2-2-2-3-2-2-2-2-2-2-2-2-2-2-2-2-2-2-2-2-2-2-2-3-2-2-2-2-2-2-2-3-2-2-2-2-2-2-2-2-2-2-2-2-2-2-2-2-2-2-8/
LOCATION:Hundeschule „TAVA“\, Hochstätterpfad\, Feilbingert\, 67824\, Deutschland
CATEGORIES:M15 GruppenTraining
ATTACH;FMTTYPE=image/png:https://hundeschuletava.de/wp-content/uploads/2023/02/M15-von-Andrea-geaendert-Schild-klein-e1675351344623.png
ORGANIZER;CN="Hundeschule 'TAVA'":MAILTO:post@hundeschuletava.de
END:VEVENT
BEGIN:VEVENT
DTSTART;TZID=Europe/Berlin:20260131T123000
DTEND;TZID=Europe/Berlin:20260131T171500
DTSTAMP:20260420T000911
CREATED:20251029T121631Z
LAST-MODIFIED:20260317T152111Z
UID:10001545-1769862600-1769879700@hundeschuletava.de
SUMMARY:Spielstunde
DESCRIPTION:Bei uns sind die Welpen- und Junghundespiel- und Lernstunden in vier Gruppen unterteilt:\n1.) WP1 – Jeden Samstag von 12:30 Uhr bis 13:30 Uhr\n2.) WP2 – Jeden Samstag von 13:45 Uhr bis 14:45 Uhr\n3.) JH1 – Jeden Samstag von 15:00 Uhr bis 16:00 Uhr\n4.) JH2 – Jeden Samstag von 16:15 Uhr bis 17:15 Uhr \nDie Zuordnung in die verschiedenen Gruppen ist nur bedingt vom Alter abhängig\, sondern vielmehr von der Entwicklung des jeweiligen Hundes. Vor Ihrem ersten Besuch bitten wir unbedingt mit uns Kontakt aufzunehmen!  \nEine Teilnahme ist nur möglich\, wenn Sie bei Ihrem ersten Besuch den gültigen Impfausweis des Hundes vorzeigen! \n.\nFür Clubmitglieder ist die Teilnahme kostenlos ! Info hier\nClubmitglied werden ? Info hier
URL:https://hundeschuletava.de/event/spielstunde-2-3-2-2/2026-01-31/
LOCATION:Hundeschule „TAVA“\, Hochstätterpfad\, Feilbingert\, 67824\, Deutschland
CATEGORIES:Spielstunde
ATTACH;FMTTYPE=image/jpeg:https://hundeschuletava.de/wp-content/uploads/2022/02/DSC06956klein.jpg
ORGANIZER;CN="Hundeschule 'TAVA'":MAILTO:post@hundeschuletava.de
END:VEVENT
END:VCALENDAR