BEGIN:VCALENDAR
VERSION:2.0
PRODID:-//Hundeschule &quot;TAVA&quot; - ECPv6.15.18//NONSGML v1.0//EN
CALSCALE:GREGORIAN
METHOD:PUBLISH
X-ORIGINAL-URL:https://hundeschuletava.de
X-WR-CALDESC:Veranstaltungen für Hundeschule &quot;TAVA&quot;
REFRESH-INTERVAL;VALUE=DURATION:PT1H
X-Robots-Tag:noindex
X-PUBLISHED-TTL:PT1H
BEGIN:VTIMEZONE
TZID:Europe/Berlin
BEGIN:DAYLIGHT
TZOFFSETFROM:+0100
TZOFFSETTO:+0200
TZNAME:CEST
DTSTART:20250330T010000
END:DAYLIGHT
BEGIN:STANDARD
TZOFFSETFROM:+0200
TZOFFSETTO:+0100
TZNAME:CET
DTSTART:20251026T010000
END:STANDARD
BEGIN:DAYLIGHT
TZOFFSETFROM:+0100
TZOFFSETTO:+0200
TZNAME:CEST
DTSTART:20260329T010000
END:DAYLIGHT
BEGIN:STANDARD
TZOFFSETFROM:+0200
TZOFFSETTO:+0100
TZNAME:CET
DTSTART:20261025T010000
END:STANDARD
BEGIN:DAYLIGHT
TZOFFSETFROM:+0100
TZOFFSETTO:+0200
TZNAME:CEST
DTSTART:20270328T010000
END:DAYLIGHT
BEGIN:STANDARD
TZOFFSETFROM:+0200
TZOFFSETTO:+0100
TZNAME:CET
DTSTART:20271031T010000
END:STANDARD
END:VTIMEZONE
BEGIN:VEVENT
DTSTART;TZID=Europe/Berlin:20260330T180000
DTEND;TZID=Europe/Berlin:20260330T190000
DTSTAMP:20260420T045706
CREATED:20250305T134526Z
LAST-MODIFIED:20260302T184134Z
UID:10002850-1774893600-1774897200@hundeschuletava.de
SUMMARY:M40 Hoopers (1)
DESCRIPTION:Clubmitglieder erhalten 15% Rabatt!
URL:https://hundeschuletava.de/event/m40-hoopers-1-2-2-2-2-2-2-2-2-2-2-2-2-2-2-2-2-2-2-2-2-2/
LOCATION:Hundeschule „TAVA“\, Hochstätterpfad\, Feilbingert\, 67824\, Deutschland
CATEGORIES:M40 Hoopers 1
ATTACH;FMTTYPE=image/png:https://hundeschuletava.de/wp-content/uploads/2025/03/M40-Schild-klein-neu-e1741182127974.png
ORGANIZER;CN="Hundeschule 'TAVA'":MAILTO:post@hundeschuletava.de
END:VEVENT
BEGIN:VEVENT
DTSTART;TZID=Europe/Berlin:20260331T164500
DTEND;TZID=Europe/Berlin:20260331T174500
DTSTAMP:20260420T045706
CREATED:20220211T095652Z
LAST-MODIFIED:20260303T100110Z
UID:10002795-1774975500-1774979100@hundeschuletava.de
SUMMARY:M1 Lerntheorie "Lernen und Lehren"
DESCRIPTION:Clubmitglieder erhalten 15% Rabatt!
URL:https://hundeschuletava.de/event/m1-lerntheorie-2-3-2-2-2-2-2-2-2-2-2-2-2-2-2-2-2-2-2-2-2-2-2-2-2-2-2-2-2-2-2-2-2-2-3-2-2-2-2-2-2-2-2-2-2-2-2-2-2-3-2-2-2-2-2-2-2-2-2-2-2-2-2-2/
LOCATION:Hundeschule „TAVA“\, Hochstätterpfad\, Feilbingert\, 67824\, Deutschland
CATEGORIES:M1 Lerntheorie "Lernen und Lehren"
ATTACH;FMTTYPE=image/jpeg:https://hundeschuletava.de/wp-content/uploads/2021/05/M1.jpg
ORGANIZER;CN="Hundeschule 'TAVA'":MAILTO:post@hundeschuletava.de
END:VEVENT
BEGIN:VEVENT
DTSTART;TZID=Europe/Berlin:20260331T180000
DTEND;TZID=Europe/Berlin:20260331T190000
DTSTAMP:20260420T045706
CREATED:20220211T095927Z
LAST-MODIFIED:20260303T095941Z
UID:10002800-1774980000-1774983600@hundeschuletava.de
SUMMARY:M6 Rückruf (1)
DESCRIPTION:Clubmitglieder erhalten 15% Rabatt!
URL:https://hundeschuletava.de/event/m6-rueckruf-1-3-2-2-2-2-2-2-2-2-2-2-2-2-2-2-2-2-2-2-2-2-2-2-2-2-2-3-2-3-2-2-3-2-2__trashed-2-2-2-2-2-2-3-2-2-2-2-2-2-2-3-2-2-2-2-2-2/
LOCATION:Hundeschule „TAVA“\, Hochstätterpfad\, Feilbingert\, 67824\, Deutschland
CATEGORIES:M6 Rückruf 1
ATTACH;FMTTYPE=image/jpeg:https://hundeschuletava.de/wp-content/uploads/2021/05/M6.jpg
ORGANIZER;CN="Hundeschule 'TAVA'":MAILTO:post@hundeschuletava.de
END:VEVENT
BEGIN:VEVENT
DTSTART;TZID=Europe/Berlin:20260331T191500
DTEND;TZID=Europe/Berlin:20260331T201500
DTSTAMP:20260420T045706
CREATED:20220208T123931Z
LAST-MODIFIED:20260303T095800Z
UID:10002861-1774984500-1774988100@hundeschuletava.de
SUMMARY:M16 Team Training
DESCRIPTION:  \nClubmitglieder erhalten 15% Rabatt!
URL:https://hundeschuletava.de/event/m16-team-training-2-8-2-2-2-2-2-2-2-2-2-2-2-2-2-2-2-2-2-2-2-2-2-2-2-2-2-2-2-2-2-2-2-2-2-2-2-2-2-3-2-2-2-2-2-2-2-2-2-2-2-2-2-2-2-2-2-2-2-2-2-2-2-2-2-2-2-2-2-2-2-2-2-2-2-2-2-2-2-2-2-2-2-2-2-2-2-2-2-2-2/
LOCATION:Hundeschule „TAVA“\, Hochstätterpfad\, Feilbingert\, 67824\, Deutschland
CATEGORIES:M16 Team Training
ATTACH;FMTTYPE=image/png:https://hundeschuletava.de/wp-content/uploads/2023/05/M16-Schild-klein-neu-e1685033285518.png
ORGANIZER;CN="Hundeschule 'TAVA'":MAILTO:post@hundeschuletava.de
END:VEVENT
BEGIN:VEVENT
DTSTART;TZID=Europe/Berlin:20260404T123000
DTEND;TZID=Europe/Berlin:20260404T171500
DTSTAMP:20260420T045706
CREATED:20251212T143821Z
LAST-MODIFIED:20260318T131217Z
UID:10002753-1775305800-1775322900@hundeschuletava.de
SUMMARY:ACHTUNG !!! Heute finden keine Spielstunden statt !!! Heute sind wir zu Gast im Fressnapf Bad Kreuznach bei der Oster-Aktion!!! Kommt uns doch mal besuchen.
DESCRIPTION:
URL:https://hundeschuletava.de/event/achtung-heute-finden-keine-spielstunden-statt-2/
LOCATION:Hundeschule „TAVA“\, Hochstätterpfad\, Feilbingert\, 67824\, Deutschland
CATEGORIES:Spielstunde
ORGANIZER;CN="Hundeschule 'TAVA'":MAILTO:post@hundeschuletava.de
END:VEVENT
END:VCALENDAR