BEGIN:VCALENDAR
VERSION:2.0
PRODID:-//Hundeschule &quot;TAVA&quot; - ECPv6.15.18//NONSGML v1.0//EN
CALSCALE:GREGORIAN
METHOD:PUBLISH
X-WR-CALNAME:Hundeschule &quot;TAVA&quot;
X-ORIGINAL-URL:https://hundeschuletava.de
X-WR-CALDESC:Veranstaltungen für Hundeschule &quot;TAVA&quot;
REFRESH-INTERVAL;VALUE=DURATION:PT1H
X-Robots-Tag:noindex
X-PUBLISHED-TTL:PT1H
BEGIN:VTIMEZONE
TZID:Europe/Berlin
BEGIN:DAYLIGHT
TZOFFSETFROM:+0100
TZOFFSETTO:+0200
TZNAME:CEST
DTSTART:20250330T010000
END:DAYLIGHT
BEGIN:STANDARD
TZOFFSETFROM:+0200
TZOFFSETTO:+0100
TZNAME:CET
DTSTART:20251026T010000
END:STANDARD
BEGIN:DAYLIGHT
TZOFFSETFROM:+0100
TZOFFSETTO:+0200
TZNAME:CEST
DTSTART:20260329T010000
END:DAYLIGHT
BEGIN:STANDARD
TZOFFSETFROM:+0200
TZOFFSETTO:+0100
TZNAME:CET
DTSTART:20261025T010000
END:STANDARD
BEGIN:DAYLIGHT
TZOFFSETFROM:+0100
TZOFFSETTO:+0200
TZNAME:CEST
DTSTART:20270328T010000
END:DAYLIGHT
BEGIN:STANDARD
TZOFFSETFROM:+0200
TZOFFSETTO:+0100
TZNAME:CET
DTSTART:20271031T010000
END:STANDARD
END:VTIMEZONE
BEGIN:VEVENT
DTSTART;TZID=Europe/Berlin:20260526T180000
DTEND;TZID=Europe/Berlin:20260526T190000
DTSTAMP:20260423T013825
CREATED:20220925T102335Z
LAST-MODIFIED:20260302T140319Z
UID:10002816-1779818400-1779822000@hundeschuletava.de
SUMMARY:M8 Leinenführung (1)
DESCRIPTION:Clubmitglieder erhalten 15% Rabatt!
URL:https://hundeschuletava.de/event/m8-leinenfuehrung-1-2-2-2-2-2-2-2-2-2-2-2-2-2-2-2-2-2-2-2-2-2-2-2-2-2-2-2-2-2-2-2-2-2-2-2-2-2-2-2-2-2-2-2-2-2-2-2-2-2-2-2-2-2/
LOCATION:Hundeschule „TAVA“\, Hochstätterpfad\, Feilbingert\, 67824\, Deutschland
CATEGORIES:M8 Leinenführung 1
ATTACH;FMTTYPE=image/png:https://hundeschuletava.de/wp-content/uploads/2023/05/M8-Schild-klein-neu-e1685033125645.png
ORGANIZER;CN="Hundeschule 'TAVA'":MAILTO:post@hundeschuletava.de
END:VEVENT
BEGIN:VEVENT
DTSTART;TZID=Europe/Berlin:20260526T193000
DTEND;TZID=Europe/Berlin:20260526T203000
DTSTAMP:20260423T013825
CREATED:20260311T183845Z
LAST-MODIFIED:20260311T183845Z
UID:10002866-1779823800-1779827400@hundeschuletava.de
SUMMARY:M17 Social Walk
DESCRIPTION:Treffpunkt: Bad Kreuznach Bauwerk  \nhttps://maps.app.goo.gl/gFcTiLjnTMKqPZAJA \nClubmitglieder erhalten 15% Rabatt!
URL:https://hundeschuletava.de/event/m17-social-walk-2/
LOCATION:Hundeschule „TAVA“\, Hochstätterpfad\, Feilbingert\, 67824\, Deutschland
CATEGORIES:M17 Social Walk
ATTACH;FMTTYPE=image/png:https://hundeschuletava.de/wp-content/uploads/2025/01/M17-Schild-klein-neu-e1736518122342.png
ORGANIZER;CN="Hundeschule 'TAVA'":MAILTO:post@hundeschuletava.de
END:VEVENT
BEGIN:VEVENT
DTSTART;TZID=Europe/Berlin:20260529T180000
DTEND;TZID=Europe/Berlin:20260529T190000
DTSTAMP:20260423T013825
CREATED:20220211T095927Z
LAST-MODIFIED:20260302T133604Z
UID:10002802-1780077600-1780081200@hundeschuletava.de
SUMMARY:M6 Rückruf (1)
DESCRIPTION:Clubmitglieder erhalten 15% Rabatt!
URL:https://hundeschuletava.de/event/m6-rueckruf-1-3-2-2-2-2-2-2-2-2-2-2-2-2-2-2-2-2-2-2-2-2-2-2-2-2-2-3-2-3-2-2-3-2-2__trashed-2-2-2-2-2-2-3-2-2-2-2-2-2-2-3-2-2-2-2-2-2-2-2/
LOCATION:Hundeschule „TAVA“\, Hochstätterpfad\, Feilbingert\, 67824\, Deutschland
CATEGORIES:M6 Rückruf 1
ATTACH;FMTTYPE=image/jpeg:https://hundeschuletava.de/wp-content/uploads/2021/05/M6.jpg
ORGANIZER;CN="Hundeschule 'TAVA'":MAILTO:post@hundeschuletava.de
END:VEVENT
BEGIN:VEVENT
DTSTART;TZID=Europe/Berlin:20260529T191500
DTEND;TZID=Europe/Berlin:20260529T201500
DTSTAMP:20260423T013825
CREATED:20220208T123931Z
LAST-MODIFIED:20260302T143431Z
UID:10002838-1780082100-1780085700@hundeschuletava.de
SUMMARY:M16 Team Training
DESCRIPTION:  \nClubmitglieder erhalten 15% Rabatt!
URL:https://hundeschuletava.de/event/m16-team-training-2-8-2-2-2-2-2-2-2-2-2-2-2-2-2-2-2-2-2-2-2-2-2-2-2-2-2-2-2-2-2-2-2-2-2-2-2-2-2-3-2-2-2-2-2-2-2-2-2-2-2-2-2-2-2-2-2-2-2-2-2-2-2-2-2-2-2-2-2-2-2-2-2-2-2-2-2-2-2-2-2-2-2-2-2-2-2-2-2-2-19/
LOCATION:Hundeschule „TAVA“\, Hochstätterpfad\, Feilbingert\, 67824\, Deutschland
CATEGORIES:M16 Team Training
ATTACH;FMTTYPE=image/png:https://hundeschuletava.de/wp-content/uploads/2023/05/M16-Schild-klein-neu-e1685033285518.png
ORGANIZER;CN="Hundeschule 'TAVA'":MAILTO:post@hundeschuletava.de
END:VEVENT
BEGIN:VEVENT
DTSTART;TZID=Europe/Berlin:20260530T123000
DTEND;TZID=Europe/Berlin:20260530T171500
DTSTAMP:20260423T013825
CREATED:20251029T121631Z
LAST-MODIFIED:20260317T152111Z
UID:10001562-1780144200-1780161300@hundeschuletava.de
SUMMARY:Spielstunde
DESCRIPTION:Bei uns sind die Welpen- und Junghundespiel- und Lernstunden in vier Gruppen unterteilt:\n1.) WP1 – Jeden Samstag von 12:30 Uhr bis 13:30 Uhr\n2.) WP2 – Jeden Samstag von 13:45 Uhr bis 14:45 Uhr\n3.) JH1 – Jeden Samstag von 15:00 Uhr bis 16:00 Uhr\n4.) JH2 – Jeden Samstag von 16:15 Uhr bis 17:15 Uhr \nDie Zuordnung in die verschiedenen Gruppen ist nur bedingt vom Alter abhängig\, sondern vielmehr von der Entwicklung des jeweiligen Hundes. Vor Ihrem ersten Besuch bitten wir unbedingt mit uns Kontakt aufzunehmen!  \nEine Teilnahme ist nur möglich\, wenn Sie bei Ihrem ersten Besuch den gültigen Impfausweis des Hundes vorzeigen! \n.\nFür Clubmitglieder ist die Teilnahme kostenlos ! Info hier\nClubmitglied werden ? Info hier
URL:https://hundeschuletava.de/event/spielstunde-2-3-2-2/2026-05-30/
LOCATION:Hundeschule „TAVA“\, Hochstätterpfad\, Feilbingert\, 67824\, Deutschland
CATEGORIES:Spielstunde
ATTACH;FMTTYPE=image/jpeg:https://hundeschuletava.de/wp-content/uploads/2022/02/DSC06956klein.jpg
ORGANIZER;CN="Hundeschule 'TAVA'":MAILTO:post@hundeschuletava.de
END:VEVENT
END:VCALENDAR